BEGIN:VCALENDAR
VERSION:2.0
PRODID:-//ChamberMaster//Event Calendar 2.0//EN
METHOD:PUBLISH
X-PUBLISHED-TTL:P3D
REFRESH-INTERVAL:P3D
CALSCALE:GREGORIAN
BEGIN:VEVENT
DTSTART:20161001T130000Z
DTEND:20161001T170000Z
X-MICROSOFT-CDO-ALLDAYEVENT:FALSE
SUMMARY:WoodmenLife 18th Annual Little Anglers Fishing Tournament
DESCRIPTION:
X-ALT-DESC;FMTTYPE=text/html:
LOCATION:
UID:e.2500.1748
SEQUENCE:3
DTSTAMP:20260424T084922Z
URL:https://business.bellville.com/events/details/woodmenlife-18th-annual-little-anglers-fishing-tournament-1748
END:VEVENT

END:VCALENDAR
