BEGIN:VCALENDAR
VERSION:2.0
PRODID:-//ChamberMaster//Event Calendar 2.0//EN
METHOD:PUBLISH
X-PUBLISHED-TTL:P3D
REFRESH-INTERVAL:P3D
CALSCALE:GREGORIAN
BEGIN:VEVENT
DTSTART:20160604T130000Z
DTEND:20160604T180000Z
X-MICROSOFT-CDO-ALLDAYEVENT:FALSE
SUMMARY:WoodmenLife 18th Annual Little Anglers Fishing Tournament
DESCRIPTION:All WoodmenLife members and friends are invited\n\nAnglers age 15 and under are eligible to participate\n\nParticipants DO NOT have to be WoodmenLife members
X-ALT-DESC;FMTTYPE=text/html:<div style="color: gray\;">All WoodmenLife members and friends are invited<br />\nAnglers age 15 and under are eligible to participate<br />\nParticipants DO NOT have to be WoodmenLife members</div>\n
LOCATION:Camp Woodmen 5193 Hwy 36N Bellville\, TX 77418
UID:e.2500.1480
SEQUENCE:3
DTSTAMP:20260424T144840Z
URL:https://business.bellville.com/events/details/woodmenlife-18th-annual-little-anglers-fishing-tournament-06-04-2016-1480
END:VEVENT

END:VCALENDAR
