BEGIN:VCALENDAR
VERSION:2.0
PRODID:-//ChamberMaster//Event Calendar 2.0//EN
METHOD:PUBLISH
X-PUBLISHED-TTL:P3D
REFRESH-INTERVAL:P3D
CALSCALE:GREGORIAN
BEGIN:VEVENT
DTSTART:20180321T210000Z
DTEND:20180322T000000Z
X-MICROSOFT-CDO-ALLDAYEVENT:FALSE
SUMMARY:Woodmen Life & Southern District Premier Properties Office Relocation and Ribbon Cutting
DESCRIPTION:Door Prizes & Refreshments\n\nFeaturing Cupcakes Allee
X-ALT-DESC;FMTTYPE=text/html:Door Prizes &amp\; Refreshments<br />\nFeaturing Cupcakes Allee
LOCATION:804 Briar Ridge Dr Bellville\, TX 77418
UID:e.2500.3755
SEQUENCE:3
DTSTAMP:20260423T072857Z
URL:https://business.bellville.com/events/details/woodmen-life-southern-district-premier-properties-office-relocation-and-ribbon-cutting-3755
END:VEVENT

END:VCALENDAR
