BEGIN:VCALENDAR
VERSION:2.0
PRODID:-//ChamberMaster//Event Calendar 2.0//EN
METHOD:PUBLISH
X-PUBLISHED-TTL:P3D
REFRESH-INTERVAL:P3D
CALSCALE:GREGORIAN
BEGIN:VEVENT
DTSTART:20170909T223000Z
DTEND:20170910T030000Z
X-MICROSOFT-CDO-ALLDAYEVENT:FALSE
SUMMARY:Wine and Dine with Patsy Cline
DESCRIPTION:Come back with us to a simpler time! Enjoy a wonderful evening of classic country western music and home style fare\, in a setting that harkens back to Nashville elegance of the late 1950's. Support the Round Top Family Library and Wine and Dine with Patsy Cline on Saturday\, September 9th at the historic Round Top Rifle Hall. The Almost Patsy Cline Band will provide wonderful music and stories as you enjoy a meal complete with all of your childhood home-cooked favorites. Exciting and unique items will be available for your bidding\, with all proceeds benefitting the Library. Doors open at 5:30 pm at the classic Texas dance hall\, located at 710 FM 1457 in Round Top. Tickets are available online at ilovetoread.org or by contacting the library   info@ilovetoread.org or (979) 249-2700.
X-ALT-DESC;FMTTYPE=text/html:Come back with us to a simpler time! Enjoy a wonderful evening of classic country western music and home style fare\, in a setting that harkens back to Nashville elegance of the late 1950&rsquo\;s. Support the Round Top Family Library and Wine and Dine with Patsy Cline on Saturday\, September 9th at the historic Round Top Rifle Hall. The Almost Patsy Cline Band will provide wonderful music and stories as you enjoy a meal complete with all of your childhood home-cooked favorites. Exciting and unique items will be available for your bidding\, with all proceeds benefitting the Library. Doors open at 5:30 pm at the classic Texas dance hall\, located at 710 FM 1457 in Round Top. Tickets are available online at ilovetoread.org or by contacting the library &ndash\; info@ilovetoread.org or (979) 249-2700.
LOCATION:Round Top Rifle Hall 710 FM 1457 Round Top Tx 78954
UID:e.2500.3426
SEQUENCE:3
DTSTAMP:20260423T143752Z
URL:https://business.bellville.com/events/details/wine-and-dine-with-patsy-cline-3426
END:VEVENT

END:VCALENDAR
