BEGIN:VCALENDAR
VERSION:2.0
PRODID:-//ChamberMaster//Event Calendar 2.0//EN
METHOD:PUBLISH
X-PUBLISHED-TTL:P3D
REFRESH-INTERVAL:P3D
CALSCALE:GREGORIAN
BEGIN:VEVENT
DTSTART:20180622T220000Z
DTEND:20180623T020000Z
X-MICROSOFT-CDO-ALLDAYEVENT:FALSE
SUMMARY:Wine-A-Thon
DESCRIPTION:Sample wines in participating stores\n\nMusic by Bo Brumble and Haley Cole\n\nFood Trucks
X-ALT-DESC;FMTTYPE=text/html:Sample wines in participating stores<br />\nMusic by Bo Brumble and Haley Cole<br />\nFood Trucks
LOCATION:On the Square in Downtown Bellville
UID:e.2500.6888
SEQUENCE:3
DTSTAMP:20260423T000114Z
URL:https://business.bellville.com/events/details/wine-a-thon-6888
END:VEVENT

END:VCALENDAR
