BEGIN:VCALENDAR
VERSION:2.0
PRODID:-//ChamberMaster//Event Calendar 2.0//EN
METHOD:PUBLISH
X-PUBLISHED-TTL:P3D
REFRESH-INTERVAL:P3D
CALSCALE:GREGORIAN
BEGIN:VEVENT
DTSTART:20190119T180000Z
DTEND:20190120T000000Z
X-MICROSOFT-CDO-ALLDAYEVENT:FALSE
SUMMARY:Whiskey Walk on the Square
DESCRIPTION:Dolly Parton look alike contest\n\nFood Trucks\n\nCocktail Samples
X-ALT-DESC;FMTTYPE=text/html:Dolly Parton look alike contest<br />\nFood Trucks<br />\nCocktail Samples
LOCATION:On the Square Bellville TX 77418
UID:e.2500.7025
SEQUENCE:3
DTSTAMP:20260422T120735Z
URL:https://business.bellville.com/events/details/whiskey-walk-on-the-square-7025
END:VEVENT

END:VCALENDAR
