BEGIN:VCALENDAR
VERSION:2.0
PRODID:-//ChamberMaster//Event Calendar 2.0//EN
METHOD:PUBLISH
X-PUBLISHED-TTL:P3D
REFRESH-INTERVAL:P3D
CALSCALE:GREGORIAN
BEGIN:VEVENT
DTSTART:20180614T180000Z
DTEND:20180614T210000Z
X-MICROSOFT-CDO-ALLDAYEVENT:FALSE
SUMMARY:Volleyball Skills Day Clinic
DESCRIPTION:A Volleyball Skills Clinic that focuses on the sport's fundamentals for athletes entering the 6th grade to 12th grade. Group drills on serving\, passing\, setting\, defense and blocking. Walk-ins welcome. Medical waiver must be signed before participating and proper athletic shorts\, t-shirt and tennis shoes must be worn.
X-ALT-DESC;FMTTYPE=text/html:A Volleyball Skills Clinic that focuses on the sport&#39\;s fundamentals for athletes entering the 6th grade to 12th grade. Group drills on serving\, passing\, setting\, defense and blocking. Walk-ins welcome. Medical waiver must be signed before participating and proper athletic shorts\, t-shirt and tennis shoes must be worn.
LOCATION:Faith Academy Bellville
UID:e.2500.6724
SEQUENCE:3
DTSTAMP:20260423T000632Z
URL:https://business.bellville.com/events/details/volleyball-skills-day-clinic-06-14-2018-6724
END:VEVENT

END:VCALENDAR
