BEGIN:VCALENDAR
VERSION:2.0
PRODID:-//ChamberMaster//Event Calendar 2.0//EN
METHOD:PUBLISH
X-PUBLISHED-TTL:P3D
REFRESH-INTERVAL:P3D
CALSCALE:GREGORIAN
BEGIN:VEVENT
DTSTART:20160925T180000Z
DTEND:20160925T210000Z
X-MICROSOFT-CDO-ALLDAYEVENT:FALSE
SUMMARY:Veterans of Foreign Wars Post 6522 Variety Shoot
DESCRIPTION:
X-ALT-DESC;FMTTYPE=text/html:
LOCATION:
UID:e.2500.1775
SEQUENCE:3
DTSTAMP:20260424T100622Z
URL:https://business.bellville.com/events/details/veterans-of-foreign-wars-post-6522-variety-shoot-1775
END:VEVENT

END:VCALENDAR
