BEGIN:VCALENDAR
VERSION:2.0
PRODID:-//ChamberMaster//Event Calendar 2.0//EN
METHOD:PUBLISH
X-PUBLISHED-TTL:P3D
REFRESH-INTERVAL:P3D
CALSCALE:GREGORIAN
BEGIN:VEVENT
DTSTART:20171113T140000Z
DTEND:20171113T150000Z
X-MICROSOFT-CDO-ALLDAYEVENT:FALSE
SUMMARY:Veterans Day Chapel
DESCRIPTION:
X-ALT-DESC;FMTTYPE=text/html:
LOCATION:Faith Academy Beth Keaton Gymnasium 12177 Hwy 36 S Bellville\, TX 77418
UID:e.2500.3658
SEQUENCE:3
DTSTAMP:20260423T113317Z
URL:https://business.bellville.com/events/details/veterans-day-chapel-3658
END:VEVENT

END:VCALENDAR
