BEGIN:VCALENDAR
VERSION:2.0
PRODID:-//ChamberMaster//Event Calendar 2.0//EN
METHOD:PUBLISH
X-PUBLISHED-TTL:P3D
REFRESH-INTERVAL:P3D
CALSCALE:GREGORIAN
BEGIN:VEVENT
DTSTART:20180515T150000Z
DTEND:20180515T190000Z
X-MICROSOFT-CDO-ALLDAYEVENT:FALSE
SUMMARY:Valmont Job Fair
DESCRIPTION:Hiring Assemblers\n\n$11 per hour\n\nSafety Incentives\n\nBenefits Package
X-ALT-DESC;FMTTYPE=text/html:Hiring Assemblers<br />\n$11 per hour<br />\nSafety Incentives<br />\nBenefits Package
LOCATION:Bellville Chamber of Commerce Office 742 W. Main St. Bellville\, TX 77418
UID:e.2500.6720
SEQUENCE:3
DTSTAMP:20260423T014636Z
URL:https://business.bellville.com/events/details/valmont-job-fair-6720
END:VEVENT

END:VCALENDAR
