BEGIN:VCALENDAR
VERSION:2.0
PRODID:-//ChamberMaster//Event Calendar 2.0//EN
METHOD:PUBLISH
X-PUBLISHED-TTL:P3D
REFRESH-INTERVAL:P3D
CALSCALE:GREGORIAN
BEGIN:VEVENT
DTSTART:20180210T003000Z
DTEND:20180210T040000Z
X-MICROSOFT-CDO-ALLDAYEVENT:FALSE
SUMMARY:Valentines Day Fundraiser
DESCRIPTION:Benefiting Boys and Girls Club of Austin County
X-ALT-DESC;FMTTYPE=text/html:Benefiting Boys and Girls Club of Austin County
LOCATION:Turnverein Pavilion @ Austin County Fairgrounds
UID:e.2500.3720
SEQUENCE:3
DTSTAMP:20260423T070630Z
URL:https://business.bellville.com/events/details/valentines-day-fundraiser-3720
END:VEVENT

END:VCALENDAR
