BEGIN:VCALENDAR
VERSION:2.0
PRODID:-//ChamberMaster//Event Calendar 2.0//EN
METHOD:PUBLISH
X-PUBLISHED-TTL:P3D
REFRESH-INTERVAL:P3D
CALSCALE:GREGORIAN
BEGIN:VEVENT
DTSTART:20170214T230000Z
DTEND:20170215T040000Z
X-MICROSOFT-CDO-ALLDAYEVENT:FALSE
SUMMARY:Valentines Day Dinner
DESCRIPTION:Take your loved one out for a romantic evening dining our beautiful restaurant. Our dinner includes 2 choices appetizer\, 2 choices main course and dessert. Tickets for sale.
X-ALT-DESC;FMTTYPE=text/html:Take your loved one out for a romantic evening dining our beautiful restaurant. Our dinner includes 2 choices appetizer\, 2 choices main course and dessert. Tickets for sale.
LOCATION:Emery's Buffalo Creek 10827 HWY 36 Bellville\, TX 77418
UID:e.2500.3185
SEQUENCE:3
DTSTAMP:20260424T033427Z
URL:https://business.bellville.com/events/details/valentines-day-dinner-3185
END:VEVENT

END:VCALENDAR
