BEGIN:VCALENDAR
VERSION:2.0
PRODID:-//ChamberMaster//Event Calendar 2.0//EN
METHOD:PUBLISH
X-PUBLISHED-TTL:P3D
REFRESH-INTERVAL:P3D
CALSCALE:GREGORIAN
BEGIN:VEVENT
DTSTART:20180215T000000Z
DTEND:20180215T023000Z
X-MICROSOFT-CDO-ALLDAYEVENT:FALSE
SUMMARY:Valentine's Dinner at Carol's at Cat Spring
DESCRIPTION:Reservations Required\n\nPlease Call 979-865-1100
X-ALT-DESC;FMTTYPE=text/html:Reservations Required<br />\nPlease Call 979-865-1100
LOCATION:
UID:e.2500.3741
SEQUENCE:3
DTSTAMP:20260423T070950Z
URL:https://business.bellville.com/events/details/valentine-s-dinner-at-carol-s-at-cat-spring-3741
END:VEVENT

END:VCALENDAR
