BEGIN:VCALENDAR
VERSION:2.0
PRODID:-//ChamberMaster//Event Calendar 2.0//EN
METHOD:PUBLISH
X-PUBLISHED-TTL:P3D
REFRESH-INTERVAL:P3D
CALSCALE:GREGORIAN
BEGIN:VEVENT
DTSTART:20180214T140000Z
DTEND:20180214T230000Z
X-MICROSOFT-CDO-ALLDAYEVENT:FALSE
SUMMARY:Valentine's Day Sweets for your Sweetie
DESCRIPTION:Bake Sale at Austin County Courthouse
X-ALT-DESC;FMTTYPE=text/html:Bake Sale at Austin County Courthouse
LOCATION:
UID:e.2500.3744
SEQUENCE:3
DTSTAMP:20260423T071025Z
URL:https://business.bellville.com/events/details/valentine-s-day-sweets-for-your-sweetie-3744
END:VEVENT

END:VCALENDAR
