BEGIN:VCALENDAR
VERSION:2.0
PRODID:-//ChamberMaster//Event Calendar 2.0//EN
METHOD:PUBLISH
X-PUBLISHED-TTL:P3D
REFRESH-INTERVAL:P3D
CALSCALE:GREGORIAN
BEGIN:VEVENT
DTSTART:20170211T200000Z
DTEND:20170211T220000Z
X-MICROSOFT-CDO-ALLDAYEVENT:FALSE
SUMMARY:Valentine's Concert
DESCRIPTION:"It's All About Love!" - The World's Greatest Love Songs Round Top Festival Institute's Annual Library Benefit and Concert with Dick Smith and Friends The Valentine's Concert features Dick Smith\, Ryan Smith\, Charles Whitaker and Will Lynde\, with a special performance by James Dick.
X-ALT-DESC;FMTTYPE=text/html:&quot\;It&#39\;s All About Love!&quot\; - The World&#39\;s Greatest Love Songs Round Top Festival Institute&#39\;s Annual Library Benefit and Concert with Dick Smith and Friends The Valentine&#39\;s Concert features Dick Smith\, Ryan Smith\, Charles Whitaker and Will Lynde\, with a special performance by James Dick.
LOCATION:Festival Concert Hall\, 248 Jaster Road\, Round Top\, TX 78954
UID:e.2500.3178
SEQUENCE:3
DTSTAMP:20260424T034322Z
URL:https://business.bellville.com/events/details/valentine-s-concert-3178
END:VEVENT

END:VCALENDAR
