BEGIN:VCALENDAR
VERSION:2.0
PRODID:-//ChamberMaster//Event Calendar 2.0//EN
METHOD:PUBLISH
X-PUBLISHED-TTL:P3D
REFRESH-INTERVAL:P3D
CALSCALE:GREGORIAN
BEGIN:VEVENT
DTSTART:20190214T140000Z
DTEND:20190214T180000Z
X-MICROSOFT-CDO-ALLDAYEVENT:FALSE
SUMMARY:Valentine Day Bake Sale
DESCRIPTION:Bellville Town & Country Annual Valentine Day Bake Sale\n\nTasty Treats & Lovely Plants for Sale\n\nAustin County Courthouse\n\n8 am
X-ALT-DESC;FMTTYPE=text/html:Bellville Town &amp\; Country Annual Valentine Day Bake Sale<br />\nTasty Treats &amp\; Lovely Plants for Sale<br />\nAustin County Courthouse<br />\n8 am
LOCATION:Austin County Courthouse\, One Main Street\, Bellville\, Texas 77418
UID:e.2500.7251
SEQUENCE:3
DTSTAMP:20260422T104435Z
URL:https://business.bellville.com/events/details/valentine-day-bake-sale-7251
END:VEVENT

END:VCALENDAR
