BEGIN:VCALENDAR
VERSION:2.0
PRODID:-//ChamberMaster//Event Calendar 2.0//EN
METHOD:PUBLISH
X-PUBLISHED-TTL:P3D
REFRESH-INTERVAL:P3D
CALSCALE:GREGORIAN
BEGIN:VEVENT
DTSTART:20180614T203000Z
DTEND:20180614T230000Z
X-MICROSOFT-CDO-ALLDAYEVENT:FALSE
SUMMARY:TxDOT PAVED Event
DESCRIPTION:TxDOT is sponsoring PAVED\, an event highlighting upcoming subcontracting opportunities for highway construction and maintenance projects in the Yoakum district. Participants will learn about the opportunities for working on major highway projects\, and get to network with other contractors. A key element of the program is to provide those businesses with the resources needed to succeed in the marketplace. PAVED (Projects adding Value by Expanding Diversity) was developed by TxDOT's Civil Rights Division to increase the utilization of small\, minority\, and women owned businesses on major highway construction projects and make available "ready willing and able" DBE that can do the work. For more information or special accommodations at this event\, contact the TxDOT Civil Rights Division at PAVED@txdot.gov or 512-416-4700.
X-ALT-DESC;FMTTYPE=text/html:TxDOT is sponsoring PAVED\, an event highlighting upcoming subcontracting opportunities for highway construction and maintenance projects in the Yoakum district. Participants will learn about the opportunities for working on major highway projects\, and get to network with other contractors. A key element of the program is to provide those businesses with the resources needed to succeed in the marketplace. PAVED (Projects adding Value by Expanding Diversity) was developed by TxDOT&rsquo\;s Civil Rights Division to increase the utilization of small\, minority\, and women owned businesses on major highway construction projects and make available &ldquo\;ready willing and able&rdquo\; DBE that can do the work. For more information or special accommodations at this event\, contact the TxDOT Civil Rights Division at PAVED@txdot.gov or 512-416-4700.
LOCATION:W.E. Hill Community Center 1000 Main Street Sealy\, Texas 77474
UID:e.2500.6732
SEQUENCE:3
DTSTAMP:20260423T000108Z
URL:https://business.bellville.com/events/details/txdot-paved-event-6732
END:VEVENT

END:VCALENDAR
