BEGIN:VCALENDAR
VERSION:2.0
PRODID:-//ChamberMaster//Event Calendar 2.0//EN
METHOD:PUBLISH
X-PUBLISHED-TTL:P3D
REFRESH-INTERVAL:P3D
CALSCALE:GREGORIAN
BEGIN:VEVENT
DTSTART:20180914T150000Z
DTEND:20180914T230000Z
X-MICROSOFT-CDO-ALLDAYEVENT:FALSE
SUMMARY:Trollbeads Uniques Show
DESCRIPTION:TROLLBEADS UNIQUES SHOW\n\nSEPTEMBER 14-22
X-ALT-DESC;FMTTYPE=text/html:TROLLBEADS UNIQUES SHOW<br />\nSEPTEMBER 14-22
LOCATION:Coco & Duckie 8 N Holland Bellville TX 77418
UID:e.2500.6953
SEQUENCE:3
DTSTAMP:20260422T185707Z
URL:https://business.bellville.com/events/details/trollbeads-uniques-show-6953
END:VEVENT

END:VCALENDAR
