BEGIN:VCALENDAR
VERSION:2.0
PRODID:-//ChamberMaster//Event Calendar 2.0//EN
METHOD:PUBLISH
X-PUBLISHED-TTL:P3D
REFRESH-INTERVAL:P3D
CALSCALE:GREGORIAN
BEGIN:VEVENT
DTSTART:20181115T233000Z
DTEND:20181116T013000Z
X-MICROSOFT-CDO-ALLDAYEVENT:FALSE
SUMMARY:Trauma Informed Care Training
DESCRIPTION:Objective:\n\nParticipants will leave the training with\n\npractical interventions that can be used to\n\nfoster connection to the children they\n\nserve\; decreasing time spent dealing with\n\nbehavior\; increasing time for instruction in\n\nthe classroom\; improving better outcomes\n\nfor children with behavioral "issues"\n\nBrain Development and Functioning:\n\nHow our brain effects our behavior\n\nPractical and Applicable Skills:\n\nSkills that will foster the connection between\n\nprofessional & child
X-ALT-DESC;FMTTYPE=text/html:<h3 style="text-align: center\;"><strong>Objective:</strong></h3>\n\n<div style="text-align: center\;">Participants will leave the training with<br />\npractical interventions that can be used to<br />\nfoster connection to the children they<br />\nserve\; decreasing time spent dealing with<br />\nbehavior\; increasing time for instruction in<br />\nthe classroom\; improving better outcomes<br />\nfor children with behavioral &ldquo\;issues&rdquo\;</div>\n\n<h3 style="text-align: center\;"><strong>Brain Development and Functioning:</strong></h3>\n\n<div style="text-align: center\;">How our brain effects our behavior</div>\n\n<h3 style="text-align: center\;"><strong>Practical and Applicable Skills:</strong></h3>\n\n<div style="text-align: center\;">Skills that will foster the connection between<br />\nprofessional &amp\; child</div>\n
LOCATION:Bellville United Methodist Church (Back of Church) 234 S. Masonic Street Bellville\, TX 77418
UID:e.2500.6960
SEQUENCE:3
DTSTAMP:20260422T155248Z
URL:https://business.bellville.com/events/details/trauma-informed-care-training-6960
END:VEVENT

END:VCALENDAR
