BEGIN:VCALENDAR
VERSION:2.0
PRODID:-//ChamberMaster//Event Calendar 2.0//EN
METHOD:PUBLISH
X-PUBLISHED-TTL:P3D
REFRESH-INTERVAL:P3D
CALSCALE:GREGORIAN
BEGIN:VEVENT
DTSTART:20171202T000000Z
DTEND:20171202T055500Z
X-MICROSOFT-CDO-ALLDAYEVENT:FALSE
SUMMARY:Toy Drive @ The Kenney Store
DESCRIPTION:New\, unwrapped\, minimum $10 toys\, gift cards
X-ALT-DESC;FMTTYPE=text/html:New\, unwrapped\, minimum $10 toys\, gift cards
LOCATION:
UID:e.2500.3662
SEQUENCE:3
DTSTAMP:20260423T114132Z
URL:https://business.bellville.com/events/details/toy-drive-the-kenney-store-3662
END:VEVENT

END:VCALENDAR
