BEGIN:VCALENDAR
VERSION:2.0
PRODID:-//ChamberMaster//Event Calendar 2.0//EN
METHOD:PUBLISH
X-PUBLISHED-TTL:P3D
REFRESH-INTERVAL:P3D
CALSCALE:GREGORIAN
BEGIN:VEVENT
DTSTART:20171109T230000Z
DTEND:20171110T030000Z
X-MICROSOFT-CDO-ALLDAYEVENT:FALSE
SUMMARY:Thursday Night Out With The Shops of Downtown Bellville
DESCRIPTION:
X-ALT-DESC;FMTTYPE=text/html:
LOCATION:
UID:e.2500.1794
SEQUENCE:3
DTSTAMP:20260423T114509Z
URL:https://business.bellville.com/events/details/thursday-night-out-with-the-shops-of-downtown-bellville-1794
END:VEVENT

END:VCALENDAR
