BEGIN:VCALENDAR
VERSION:2.0
PRODID:-//ChamberMaster//Event Calendar 2.0//EN
METHOD:PUBLISH
X-PUBLISHED-TTL:P3D
REFRESH-INTERVAL:P3D
CALSCALE:GREGORIAN
BEGIN:VEVENT
DTSTART:20170616T000000Z
DTEND:20170616T013000Z
X-MICROSOFT-CDO-ALLDAYEVENT:FALSE
SUMMARY:The Round Top Family Library Book Club Presents Laura Quinn Guidry
DESCRIPTION:The Round Top Family Library Book Club Presents Laura Quinn Guidry Local poet and book club member Laura Guidry has had her first book of poems published! She will read from her book\, Between Two Gardens\, at the Library. Her poems\, in clear language\, explore themes of family\, a yearning for home\, loss and the healing power of Nature. A reception and book signing will follow the reading. Thursday\, June 15\, 2017 at 7:00 p.m. Round Top Family Library 206 W. Mill St. Round Top TX\, 78954 www.ilovetoread.org 979-249-2700 Free Admission
X-ALT-DESC;FMTTYPE=text/html:The Round Top Family Library Book Club Presents Laura Quinn Guidry Local poet and book club member Laura Guidry has had her first book of poems published! She will read from her book\, Between Two Gardens\, at the Library. Her poems\, in clear language\, explore themes of family\, a yearning for home\, loss and the healing power of Nature. A reception and book signing will follow the reading. Thursday\, June 15\, 2017 at 7:00 p.m. Round Top Family Library 206 W. Mill St. Round Top TX\, 78954 www.ilovetoread.org 979-249-2700 Free Admission
LOCATION:Round Top Family Library 206 W. Mill St. Round Top TX\, 78954
UID:e.2500.3417
SEQUENCE:3
DTSTAMP:20260423T193413Z
URL:https://business.bellville.com/events/details/the-round-top-family-library-book-club-presents-laura-quinn-guidry-3417
END:VEVENT

END:VCALENDAR
