BEGIN:VCALENDAR
VERSION:2.0
PRODID:-//ChamberMaster//Event Calendar 2.0//EN
METHOD:PUBLISH
X-PUBLISHED-TTL:P3D
REFRESH-INTERVAL:P3D
CALSCALE:GREGORIAN
BEGIN:VEVENT
DTSTART:20190418T223000Z
DTEND:20190419T003000Z
X-MICROSOFT-CDO-ALLDAYEVENT:FALSE
SUMMARY:The Living Last Supper
DESCRIPTION:
X-ALT-DESC;FMTTYPE=text/html:
LOCATION:Bellville First United Methodist Church 234 S Masonic Bellville TX 77418
UID:e.2500.7429
SEQUENCE:3
DTSTAMP:20260420T085014Z
URL:https://business.bellville.com/events/details/the-living-last-supper-7429
END:VEVENT

END:VCALENDAR
