BEGIN:VCALENDAR
VERSION:2.0
PRODID:-//ChamberMaster//Event Calendar 2.0//EN
METHOD:PUBLISH
X-PUBLISHED-TTL:P3D
REFRESH-INTERVAL:P3D
CALSCALE:GREGORIAN
BEGIN:VEVENT
DTSTART:20170413T223000Z
DTEND:20170414T023000Z
X-MICROSOFT-CDO-ALLDAYEVENT:FALSE
SUMMARY:The Living Last Supper
DESCRIPTION:TWO PRESENTATIONS\n\n5:30 PM AND 7:30 PM
X-ALT-DESC;FMTTYPE=text/html:<span style="font-size: 26px\;"><strong>TWO PRESENTATIONS<br />\n<span style="color: rgb(255\, 0\, 0)\;"><span style="font-size: 36px\;">5:30 PM</span> </span>AND <span style="font-size: 36px\;"><span style="color: rgb(255\, 0\, 0)\;">7:30 PM</span></span></strong></span>
LOCATION:Bellville First United Methodist Church 234 South Masonic Bellville\, TX 77418
UID:e.2500.3364
SEQUENCE:3
DTSTAMP:20260424T001838Z
URL:https://business.bellville.com/events/details/the-living-last-supper-3364
END:VEVENT

END:VCALENDAR
