BEGIN:VCALENDAR
VERSION:2.0
PRODID:-//ChamberMaster//Event Calendar 2.0//EN
METHOD:PUBLISH
X-PUBLISHED-TTL:P3D
REFRESH-INTERVAL:P3D
CALSCALE:GREGORIAN
BEGIN:VEVENT
DTSTART:20170625T170000Z
DTEND:20170626T040000Z
X-MICROSOFT-CDO-ALLDAYEVENT:FALSE
SUMMARY:The Kenney Store Presents Back Forty
DESCRIPTION:Showcase Sunday Featuring\n\nDaryle Singletary\n\nJody Booth\n\nAndy Griggs
X-ALT-DESC;FMTTYPE=text/html:<em><strong>Showcase Sunday Featuring</strong></em><br />\nDaryle Singletary<br />\nJody Booth<br />\nAndy Griggs<br />\n&nbsp\;
LOCATION:
UID:e.2500.3560
SEQUENCE:3
DTSTAMP:20260423T205650Z
URL:https://business.bellville.com/events/details/the-kenney-store-presents-back-forty-3560
END:VEVENT

END:VCALENDAR
