BEGIN:VCALENDAR
VERSION:2.0
PRODID:-//ChamberMaster//Event Calendar 2.0//EN
METHOD:PUBLISH
X-PUBLISHED-TTL:P3D
REFRESH-INTERVAL:P3D
CALSCALE:GREGORIAN
BEGIN:VEVENT
DTSTART;VALUE=DATE:20180618
DTEND;VALUE=DATE:20180623
TRANSP:TRANSPARENT
X-MICROSOFT-CDO-ALLDAYEVENT:TRUE
SUMMARY:The Great Adventure - Camp Hope
DESCRIPTION:Deadline for registration April 15\, 2018
X-ALT-DESC;FMTTYPE=text/html:Deadline for registration April 15\, 2018
LOCATION:4740 Hwy 36 N Bellville TX 77418
UID:e.2500.3740
SEQUENCE:3
DTSTAMP:20260423T000311Z
URL:https://business.bellville.com/events/details/the-great-adventure-camp-hope-3740
END:VEVENT

END:VCALENDAR
