BEGIN:VCALENDAR
VERSION:2.0
PRODID:-//ChamberMaster//Event Calendar 2.0//EN
METHOD:PUBLISH
X-PUBLISHED-TTL:P3D
REFRESH-INTERVAL:P3D
CALSCALE:GREGORIAN
BEGIN:VEVENT
DTSTART:20190222T000000Z
DTEND:20190222T020000Z
X-MICROSOFT-CDO-ALLDAYEVENT:FALSE
SUMMARY:The Future of Bellville Town Hall Discussion
DESCRIPTION:
X-ALT-DESC;FMTTYPE=text/html:
LOCATION:San Bernard Electric Cooperative 309 W Main Bellville TX 77418
UID:e.2500.7265
SEQUENCE:3
DTSTAMP:20260422T105023Z
URL:https://business.bellville.com/events/details/the-future-of-bellville-town-hall-discussion-7265
END:VEVENT

END:VCALENDAR
