BEGIN:VCALENDAR
VERSION:2.0
PRODID:-//ChamberMaster//Event Calendar 2.0//EN
METHOD:PUBLISH
X-PUBLISHED-TTL:P3D
REFRESH-INTERVAL:P3D
CALSCALE:GREGORIAN
BEGIN:VEVENT
DTSTART:20171104T190000Z
DTEND:20171105T033000Z
X-MICROSOFT-CDO-ALLDAYEVENT:FALSE
SUMMARY:The Bonfire Texas - A Music Festival Gone to the Dogs!
DESCRIPTION:Welcome to the home of The Bonfire Texas - a music festival "Gone to the Dogs!"\, the first Texas ranch festival created to celebrate the traditions and fun of the Texas working ranch and the people behind the scenes who make it all possible. Festival attendees will be treated to wine hay rides\, tours\, sheep herding with ranch dogs\, BBQ\, Wine Garden\, Beer tasting and featured Live Music from local Bellville favorite rising star David Lewis and his band from Bellville\, Texas. Featured shopping from western shops.  And be sure to wear your western wear\, we'll hold a best dressed competition awarded at the end of the festival!  Houston musician Ken Gaines will be leading campfire songs throughout the day as well!  Proceeds benefit All Border Collie Rescue and Fosters of Blisswood.\n\nIn addition to live music and dancing with David Lewis and his band\, we'll have a bonfire to gather 'round\, sing songs\, make s'mores and settle into the ambiance of a nice Texas November evening.\n\nWe hope you'll come out and show your support for the first ever Texas working ranch celebration\, The Bonfire Texas\, an experience we hope you'll remember and want to write home about and tell all your friends! See you soon.
X-ALT-DESC;FMTTYPE=text/html:<div>\n<p>Welcome to the home of <a href="http://www.thebonfiretexas.com">The Bonfire Texas - a music festival &quot\;Gone to the Dogs!&quot\;\,</a> the first Texas ranch festival created to celebrate the traditions and fun of the Texas working ranch and the people behind the scenes who make it all possible. Festival attendees will be treated to wine hay rides\, tours\, sheep herding with ranch dogs\, BBQ\, Wine Garden\, Beer tasting and featured Live Music from local Bellville favorite rising star&nbsp\;<a href="https://www.davidlewismusician.com/" rel="noopener" style="margin: 0px\; padding: 0px\; outline: 0px\; border: 0px rgb(225\, 225\, 225)\; border-image: none\; color: rgb(240\, 90\, 26)\; line-height: inherit\; font-family: inherit\; font-size: inherit\; font-style: inherit\; vertical-align: baseline\; max-width: 100%\; box-sizing: border-box\; font-stretch: inherit\; font-variant-caps: inherit\;" target="_blank">David Lewis and his band</a>&nbsp\;from Bellville\, Texas. Featured shopping from western shops. &nbsp\;And be sure to wear your western wear\, we&#39\;ll hold a best dressed competition awarded at the end of the festival! &nbsp\;Houston musician Ken Gaines will be leading campfire songs throughout the day as well! &nbsp\;Proceeds benefit All Border Collie Rescue and Fosters of Blisswood.</p>\n\n<p>In addition to live music and dancing with David Lewis and his band\, we&rsquo\;ll have a bonfire to gather &lsquo\;round\, sing songs\, make s&rsquo\;mores and settle into the ambiance of a nice Texas November evening.</p>\n\n<p>We hope you&rsquo\;ll come out and show your support for the first ever Texas working ranch celebration\, The Bonfire Texas\, an experience we hope you&rsquo\;ll remember and want to write home about and tell all your friends! See you soon.</p>\n\n<div>&nbsp\;</div>\n</div>\n\n<div>&nbsp\;</div>\n
LOCATION:Blisswood Bed & Breakfast 13205 Frantz Rd. Cat Spring\, Texas 78933
UID:e.2500.3635
SEQUENCE:3
DTSTAMP:20260423T114644Z
URL:https://business.bellville.com/events/details/the-bonfire-texas-a-music-festival-gone-to-the-dogs-3635
END:VEVENT

END:VCALENDAR
