BEGIN:VCALENDAR
VERSION:2.0
PRODID:-//ChamberMaster//Event Calendar 2.0//EN
METHOD:PUBLISH
X-PUBLISHED-TTL:P3D
REFRESH-INTERVAL:P3D
CALSCALE:GREGORIAN
BEGIN:VEVENT
DTSTART:20180407T150000Z
DTEND:20180407T210000Z
X-MICROSOFT-CDO-ALLDAYEVENT:FALSE
SUMMARY:Texas Select Forged in Fire
DESCRIPTION:
X-ALT-DESC;FMTTYPE=text/html:
LOCATION:Phenix Knives 305 E Main St Bellville TX 77418
UID:e.2500.3730
SEQUENCE:3
DTSTAMP:20260423T033337Z
URL:https://business.bellville.com/events/details/texas-select-forged-in-fire-3730
END:VEVENT

END:VCALENDAR
