BEGIN:VCALENDAR
VERSION:2.0
PRODID:-//ChamberMaster//Event Calendar 2.0//EN
METHOD:PUBLISH
X-PUBLISHED-TTL:P3D
REFRESH-INTERVAL:P3D
CALSCALE:GREGORIAN
BEGIN:VEVENT
DTSTART:20170121T210000Z
DTEND:20170121T230000Z
X-MICROSOFT-CDO-ALLDAYEVENT:FALSE
SUMMARY:Texas Guitar Quartet
DESCRIPTION:Texas Guitar Quartet performs classical guitar music with astounding grace and precision in their debut concert at Festival Hill with works by Mozart\, Rossini\, and Boccherini among others. Formed in 2008\, the Texas Guitar Quartet has developed an exciting repertoire by commissioning new works and creating their own arrangements and compositions. Their daring arrangements\, such as Beethoven's Egmont Overture\, offer fresh perspective on works from other repertoires and push the boundaries of the medium. Join us for their first appearance on the Festival Concert Hall stage. (Repertoire is listed below.) The Texas Guitar Quartet assembles the talents of Isaac Bustos\, Jonathan Dotson\, Alejandro Montiel and Joseph Williams II. As soloists\, they have garnered acclaim on concert stages around the world and prizes in dozens of international guitar competitions.
X-ALT-DESC;FMTTYPE=text/html:Texas Guitar Quartet performs classical guitar music with astounding grace and precision in their debut concert at Festival Hill with works by Mozart\, Rossini\, and Boccherini among others. Formed in 2008\, the Texas Guitar Quartet has developed an exciting repertoire by commissioning new works and creating their own arrangements and compositions. Their daring arrangements\, such as Beethoven&rsquo\;s Egmont Overture\, offer fresh perspective on works from other repertoires and push the boundaries of the medium. Join us for their first appearance on the Festival Concert Hall stage. (Repertoire is listed below.) The Texas Guitar Quartet assembles the talents of Isaac Bustos\, Jonathan Dotson\, Alejandro Montiel and Joseph Williams II. As soloists\, they have garnered acclaim on concert stages around the world and prizes in dozens of international guitar competitions.
LOCATION:Festival Concert Hall 248 Jaster Rd\, Round Top\, TX 78954
UID:e.2500.3176
SEQUENCE:3
DTSTAMP:20260424T034133Z
URL:https://business.bellville.com/events/details/texas-guitar-quartet-3176
END:VEVENT

END:VCALENDAR
