BEGIN:VCALENDAR
VERSION:2.0
PRODID:-//ChamberMaster//Event Calendar 2.0//EN
METHOD:PUBLISH
X-PUBLISHED-TTL:P3D
REFRESH-INTERVAL:P3D
CALSCALE:GREGORIAN
BEGIN:VEVENT
DTSTART:20170602T233000Z
DTEND:20170603T030000Z
X-MICROSOFT-CDO-ALLDAYEVENT:FALSE
SUMMARY:Teacher's Night Out
DESCRIPTION:Celebrate the start of Summer by enjoying a relaxing evening dining on the patio. Guest singer: Mitch Marcoulier.
X-ALT-DESC;FMTTYPE=text/html:Celebrate the start of Summer by enjoying a relaxing evening dining on the patio. Guest singer: Mitch Marcoulier.
LOCATION:Emery's Buffalo Creek 10827 Hwy Bellville\, TX 77418
UID:e.2500.3425
SEQUENCE:3
DTSTAMP:20260423T192033Z
URL:https://business.bellville.com/events/details/teacher-s-night-out-3425
END:VEVENT

END:VCALENDAR
