BEGIN:VCALENDAR
VERSION:2.0
PRODID:-//ChamberMaster//Event Calendar 2.0//EN
METHOD:PUBLISH
X-PUBLISHED-TTL:P3D
REFRESH-INTERVAL:P3D
CALSCALE:GREGORIAN
BEGIN:VEVENT
DTSTART:20180825T050000Z
DTEND:20180825T120000Z
X-MICROSOFT-CDO-ALLDAYEVENT:FALSE
SUMMARY:TCP Beauty College Midnight Braidathon
DESCRIPTION:
X-ALT-DESC;FMTTYPE=text/html:
LOCATION:
UID:e.2500.6930
SEQUENCE:3
DTSTAMP:20260422T221704Z
URL:https://business.bellville.com/events/details/tcp-beauty-college-midnight-braidathon-6930
END:VEVENT

END:VCALENDAR
