BEGIN:VCALENDAR
VERSION:2.0
PRODID:-//ChamberMaster//Event Calendar 2.0//EN
METHOD:PUBLISH
X-PUBLISHED-TTL:P3D
REFRESH-INTERVAL:P3D
CALSCALE:GREGORIAN
BEGIN:VEVENT
DTSTART:20180614T233000Z
DTEND:20180615T013000Z
X-MICROSOFT-CDO-ALLDAYEVENT:FALSE
SUMMARY:Tax Cuts and Job Acts of 2017 - Impacts and Opportunities
DESCRIPTION:
X-ALT-DESC;FMTTYPE=text/html:
LOCATION:Austin County State Bank
UID:e.2500.6875
SEQUENCE:3
DTSTAMP:20260423T000759Z
URL:https://business.bellville.com/events/details/tax-cuts-and-job-acts-of-2017-impacts-and-opportunities-6875
END:VEVENT

END:VCALENDAR
