BEGIN:VCALENDAR
VERSION:2.0
PRODID:-//ChamberMaster//Event Calendar 2.0//EN
METHOD:PUBLISH
X-PUBLISHED-TTL:P3D
REFRESH-INTERVAL:P3D
CALSCALE:GREGORIAN
BEGIN:VEVENT
DTSTART:20171105T200000Z
DTEND:20171105T220000Z
X-MICROSOFT-CDO-ALLDAYEVENT:FALSE
SUMMARY:Surviving the Holidays - GriefShare
DESCRIPTION:We are nearing the holiday season with different holidays celebrated by different cultures and different religions in different ways. If you have lost a loved one to death\, there is one thing that is common to all of us and strongly apparent as families gather to celebrate these holidays together. An empty chair! How do we journey through this season bringing that empty chair from a reminder of mourning to a remembrance of joy? Surviving the Holidays will cover topics such as *Why the holidays are so difficult *How to plan for the season *How to deal with holiday invitations *Surviving ?alone time? *Dealing with emotional ambushes *Managing strong emotions *Creating new traditions while honoring your loved one?s legacy *How to find hope for the future Surviving the Holidays seminar begins at 2 PM and will meet in Youth Arena located on the 2nd Floor (Elevator available). This is a free event -RSVP requested but not necessary at www.ccf.life or 979.885.3113. Everyone Welcome!
X-ALT-DESC;FMTTYPE=text/html:We are nearing the holiday season with different holidays celebrated by different cultures and different religions in different ways. If you have lost a loved one to death\, there is one thing that is common to all of us and strongly apparent as families gather to celebrate these holidays together. An empty chair! How do we journey through this season bringing that empty chair from a reminder of mourning to a remembrance of joy? Surviving the Holidays will cover topics such as *Why the holidays are so difficult *How to plan for the season *How to deal with holiday invitations *Surviving ?alone time? *Dealing with emotional ambushes *Managing strong emotions *Creating new traditions while honoring your loved one?s legacy *How to find hope for the future Surviving the Holidays seminar begins at 2 PM and will meet in Youth Arena located on the 2nd Floor (Elevator available). This is a free event -RSVP requested but not necessary at www.ccf.life or 979.885.3113. Everyone Welcome!
LOCATION:Christian City Fellowship 5243 Hwy 36 Sealy\, TX 77474
UID:e.2500.3655
SEQUENCE:3
DTSTAMP:20260423T113943Z
URL:https://business.bellville.com/events/details/surviving-the-holidays-griefshare-3655
END:VEVENT

END:VCALENDAR
