BEGIN:VCALENDAR
VERSION:2.0
PRODID:-//ChamberMaster//Event Calendar 2.0//EN
METHOD:PUBLISH
X-PUBLISHED-TTL:P3D
REFRESH-INTERVAL:P3D
CALSCALE:GREGORIAN
BEGIN:VEVENT
DTSTART:20181104T200000Z
DTEND:20181104T220000Z
X-MICROSOFT-CDO-ALLDAYEVENT:FALSE
SUMMARY:Surviving the Holidays - Grief Share
DESCRIPTION:
X-ALT-DESC;FMTTYPE=text/html:
LOCATION:Christian City Fellowship 5243 Hwy 36 S Sealy TX
UID:e.2500.6988
SEQUENCE:3
DTSTAMP:20260422T155607Z
URL:https://business.bellville.com/events/details/surviving-the-holidays-grief-share-6988
END:VEVENT

END:VCALENDAR
