BEGIN:VCALENDAR
VERSION:2.0
PRODID:-//ChamberMaster//Event Calendar 2.0//EN
METHOD:PUBLISH
X-PUBLISHED-TTL:P3D
REFRESH-INTERVAL:P3D
CALSCALE:GREGORIAN
BEGIN:VEVENT
DTSTART:20171007T140000Z
DTEND:20171007T170000Z
X-MICROSOFT-CDO-ALLDAYEVENT:FALSE
SUMMARY:St. Mary's Episcopal Day School's Annual Pumpkin Patch
DESCRIPTION:
X-ALT-DESC;FMTTYPE=text/html:
LOCATION:
UID:e.2500.1780
SEQUENCE:3
DTSTAMP:20260423T124814Z
URL:https://business.bellville.com/events/details/st-mary-s-episcopal-day-school-s-annual-pumpkin-patch-1780
END:VEVENT

END:VCALENDAR
