BEGIN:VCALENDAR
VERSION:2.0
PRODID:-//ChamberMaster//Event Calendar 2.0//EN
METHOD:PUBLISH
X-PUBLISHED-TTL:P3D
REFRESH-INTERVAL:P3D
CALSCALE:GREGORIAN
BEGIN:VEVENT
DTSTART:20160124T000000Z
DTEND:20160124T040000Z
X-MICROSOFT-CDO-ALLDAYEVENT:FALSE
SUMMARY:St. Mary's Episcopal Day School Fundraiser
DESCRIPTION:This adult-only event is a great opportunity to socialize while raising money for the school.
X-ALT-DESC;FMTTYPE=text/html:This adult-only event is a great opportunity to socialize while raising money for the school.&nbsp\;
LOCATION:Austin County Fair Convention & Expo Center: 1076 E Hill\, Bellville\, Texas 77418
UID:e.2500.275
SEQUENCE:3
DTSTAMP:20260425T000540Z
URL:https://business.bellville.com/events/details/st-mary-s-episcopal-day-school-fundraiser-01-23-2016-275
END:VEVENT

END:VCALENDAR
