BEGIN:VCALENDAR
VERSION:2.0
PRODID:-//ChamberMaster//Event Calendar 2.0//EN
METHOD:PUBLISH
X-PUBLISHED-TTL:P3D
REFRESH-INTERVAL:P3D
CALSCALE:GREGORIAN
BEGIN:VEVENT
DTSTART:20160402T123000Z
DTEND:20160402T170000Z
X-MICROSOFT-CDO-ALLDAYEVENT:FALSE
SUMMARY:St Mary's Episcopal Day School Fun Run
DESCRIPTION:5K Fun Run benefiting the Bellville Volunteer Fire Department\n\n\n\nAll ages welcome
X-ALT-DESC;FMTTYPE=text/html:5K Fun Run benefiting the Bellville Volunteer Fire Department<br />\n<br />\nAll ages welcome
LOCATION:24 N Masonic Bellville TX 77418
UID:e.2500.1484
SEQUENCE:3
DTSTAMP:20260424T174123Z
URL:https://business.bellville.com/events/details/st-mary-s-episcopal-day-school-fun-run-04-02-2016-1484
END:VEVENT

END:VCALENDAR
