BEGIN:VCALENDAR
VERSION:2.0
PRODID:-//ChamberMaster//Event Calendar 2.0//EN
METHOD:PUBLISH
X-PUBLISHED-TTL:P3D
REFRESH-INTERVAL:P3D
CALSCALE:GREGORIAN
BEGIN:VEVENT
DTSTART:20160611T130000Z
DTEND:20160611T190000Z
X-MICROSOFT-CDO-ALLDAYEVENT:FALSE
SUMMARY:St Mary's Episcopal Church Rummage Sale
DESCRIPTION:Proceeds benefit Bellville Christian Food Pantry and Food for the Poor
X-ALT-DESC;FMTTYPE=text/html:Proceeds benefit Bellville Christian Food Pantry and Food for the Poor
LOCATION:24 N Masonic Bellville TX 77418 979-865-2330 saintmary@sbcglobal.net
UID:e.2500.1511
SEQUENCE:3
DTSTAMP:20260424T161420Z
URL:https://business.bellville.com/events/details/st-mary-s-episcopal-church-rummage-sale-06-11-2016-1511
END:VEVENT

END:VCALENDAR
