BEGIN:VCALENDAR
VERSION:2.0
PRODID:-//ChamberMaster//Event Calendar 2.0//EN
METHOD:PUBLISH
X-PUBLISHED-TTL:P3D
REFRESH-INTERVAL:P3D
CALSCALE:GREGORIAN
BEGIN:VEVENT
DTSTART:20180708T223000Z
DTEND:20180709T013000Z
X-MICROSOFT-CDO-ALLDAYEVENT:FALSE
SUMMARY:St John Youth Ministry VBS 2018
DESCRIPTION:
X-ALT-DESC;FMTTYPE=text/html:
LOCATION:
UID:e.2500.6898
SEQUENCE:3
DTSTAMP:20260422T223335Z
URL:https://business.bellville.com/events/details/st-john-youth-ministry-vbs-2018-6898
END:VEVENT

END:VCALENDAR
