BEGIN:VCALENDAR
VERSION:2.0
PRODID:-//ChamberMaster//Event Calendar 2.0//EN
METHOD:PUBLISH
X-PUBLISHED-TTL:P3D
REFRESH-INTERVAL:P3D
CALSCALE:GREGORIAN
BEGIN:VEVENT
DTSTART:20180716T140000Z
DTEND:20180716T170000Z
X-MICROSOFT-CDO-ALLDAYEVENT:FALSE
SUMMARY:St John Youth Ministry Come & Play
DESCRIPTION:
X-ALT-DESC;FMTTYPE=text/html:
LOCATION:
UID:e.2500.6900
SEQUENCE:3
DTSTAMP:20260422T222509Z
URL:https://business.bellville.com/events/details/st-john-youth-ministry-come-play-6900
END:VEVENT

END:VCALENDAR
