BEGIN:VCALENDAR
VERSION:2.0
PRODID:-//ChamberMaster//Event Calendar 2.0//EN
METHOD:PUBLISH
X-PUBLISHED-TTL:P3D
REFRESH-INTERVAL:P3D
CALSCALE:GREGORIAN
BEGIN:VEVENT
DTSTART:20160501T153000Z
DTEND:20160501T220000Z
X-MICROSOFT-CDO-ALLDAYEVENT:FALSE
SUMMARY:St John Lutheran Church Bellville Picnic
DESCRIPTION:Worship and communion\, picnic\, games and activities
X-ALT-DESC;FMTTYPE=text/html:<br />\n<br />\n<span style="color: rgb(255\, 0\, 0)\;">Worship and communion\, picnic\, games and activities</span>
LOCATION:St John Retreat Center 4740 Highway 36N Bellville\, TX 77418
UID:e.2500.1494
SEQUENCE:3
DTSTAMP:20260424T160504Z
URL:https://business.bellville.com/events/details/st-john-lutheran-church-bellville-picnic-05-01-2016-1494
END:VEVENT

END:VCALENDAR
