BEGIN:VCALENDAR
VERSION:2.0
PRODID:-//ChamberMaster//Event Calendar 2.0//EN
METHOD:PUBLISH
X-PUBLISHED-TTL:P3D
REFRESH-INTERVAL:P3D
CALSCALE:GREGORIAN
BEGIN:VEVENT
DTSTART:20180506T153000Z
DTEND:20180506T210000Z
X-MICROSOFT-CDO-ALLDAYEVENT:FALSE
SUMMARY:St John Lutheran Annual Church Picnic
DESCRIPTION:
X-ALT-DESC;FMTTYPE=text/html:
LOCATION:St. John Retreat Center 4740 Hwy 36 N Bellville\, TX 77418
UID:e.2500.3391
SEQUENCE:3
DTSTAMP:20260423T014902Z
URL:https://business.bellville.com/events/details/st-john-lutheran-annual-church-picnic-3391
END:VEVENT

END:VCALENDAR
