BEGIN:VCALENDAR
VERSION:2.0
PRODID:-//ChamberMaster//Event Calendar 2.0//EN
METHOD:PUBLISH
X-PUBLISHED-TTL:P3D
REFRESH-INTERVAL:P3D
CALSCALE:GREGORIAN
BEGIN:VEVENT
DTSTART:20161023T200000Z
DTEND:20161023T230000Z
X-MICROSOFT-CDO-ALLDAYEVENT:FALSE
SUMMARY:St. Barnabas Anglican Church Hymn-Sing and Ice Cream Social
DESCRIPTION:Open to the Community
X-ALT-DESC;FMTTYPE=text/html:Open&nbsp\;to the Community
LOCATION:237 W Austin Bellville\, TX 77418
UID:e.2500.1781
SEQUENCE:3
DTSTAMP:20260424T085623Z
URL:https://business.bellville.com/events/details/st-barnabas-anglican-church-hymn-sing-and-ice-cream-social-1781
END:VEVENT

END:VCALENDAR
