BEGIN:VCALENDAR
VERSION:2.0
PRODID:-//ChamberMaster//Event Calendar 2.0//EN
METHOD:PUBLISH
X-PUBLISHED-TTL:P3D
REFRESH-INTERVAL:P3D
CALSCALE:GREGORIAN
BEGIN:VEVENT
DTSTART:20160423T190000Z
DTEND:20160423T230000Z
X-MICROSOFT-CDO-ALLDAYEVENT:FALSE
SUMMARY:Spring Celebration at Newman's Castle
DESCRIPTION:Live Entertainment by :\n\nConstant Billy\n\nSia Beaton\n\nDon & Janet Allphin\n\nRichard Kean (Bagpiper)\n\nWenches of Wylde Meade
X-ALT-DESC;FMTTYPE=text/html:Live Entertainment by :<br />\nConstant Billy<br />\nSia Beaton<br />\nDon &amp\; Janet Allphin<br />\nRichard Kean (Bagpiper)<br />\nWenches of Wylde Meade
LOCATION:Newman's Castle 1041 Old Texas 36 Bellville\, TX 77418
UID:e.2500.1487
SEQUENCE:3
DTSTAMP:20260424T190553Z
URL:https://business.bellville.com/events/details/spring-celebration-at-newman-s-castle-04-23-2016-1487
END:VEVENT

END:VCALENDAR
