BEGIN:VCALENDAR
VERSION:2.0
PRODID:-//ChamberMaster//Event Calendar 2.0//EN
METHOD:PUBLISH
X-PUBLISHED-TTL:P3D
REFRESH-INTERVAL:P3D
CALSCALE:GREGORIAN
BEGIN:VEVENT
DTSTART:20180202T160000Z
DTEND:20180203T220000Z
X-MICROSOFT-CDO-ALLDAYEVENT:FALSE
SUMMARY:Spring Blossoms Quilt Show
DESCRIPTION:The 2018 Quilt show will feature area quilters using their talents to help the community and keep the tradition of quilting alive. The judged show will have contemporary and traditional quilts as well as quilts for sale. Boutique\, Country Store\, Vendors and Door Prizes also a Fat Quarter Raffle\, HOSPICE Charity Quilt Challenge and tickets for our donation quilt that is pieced and hand appliqued by Guild members. Come join us for fun and Explore Downtown Brenham and the surrounding areas winery's\, shops and history! Accommodations can be found on our website https://friendshipquiltguild.weebly.com/2018-quilt-show1.html
X-ALT-DESC;FMTTYPE=text/html:The 2018 Quilt show will feature area quilters using their talents to help the community and keep the tradition of quilting alive. The judged show will have contemporary and traditional quilts as well as quilts for sale. Boutique\, Country Store\, Vendors and Door Prizes also a Fat Quarter Raffle\, HOSPICE Charity Quilt Challenge and tickets for our donation quilt that is pieced and hand appliqued by Guild members. Come join us for fun and Explore Downtown Brenham and the surrounding areas winery&#39\;s\, shops and history! Accommodations can be found on our website https://friendshipquiltguild.weebly.com/2018-quilt-show1.html
LOCATION:Fireman's Training Center 1101 FM E Brenham\, TX 77833
UID:e.2500.3686
SEQUENCE:3
DTSTAMP:20260423T070854Z
URL:https://business.bellville.com/events/details/spring-blossoms-quilt-show-02-02-2018-3686
END:VEVENT

END:VCALENDAR
