BEGIN:VCALENDAR
VERSION:2.0
PRODID:-//ChamberMaster//Event Calendar 2.0//EN
METHOD:PUBLISH
X-PUBLISHED-TTL:P3D
REFRESH-INTERVAL:P3D
CALSCALE:GREGORIAN
BEGIN:VEVENT
DTSTART:20170401T140000Z
DTEND:20170401T170000Z
X-MICROSOFT-CDO-ALLDAYEVENT:FALSE
SUMMARY:Spring Bake Sale
DESCRIPTION:
X-ALT-DESC;FMTTYPE=text/html:
LOCATION:Bellville Farmer's Market under the Jim Bishop Pavilion
UID:e.2500.3374
SEQUENCE:3
DTSTAMP:20260423T223821Z
URL:https://business.bellville.com/events/details/spring-bake-sale-3374
END:VEVENT

END:VCALENDAR
