BEGIN:VCALENDAR
VERSION:2.0
PRODID:-//ChamberMaster//Event Calendar 2.0//EN
METHOD:PUBLISH
X-PUBLISHED-TTL:P3D
REFRESH-INTERVAL:P3D
CALSCALE:GREGORIAN
BEGIN:VEVENT
DTSTART:20171130T000000Z
DTEND:20171130T055500Z
X-MICROSOFT-CDO-ALLDAYEVENT:FALSE
SUMMARY:SOLD OUT - Radney Foster @ The Kenney Store
DESCRIPTION:
X-ALT-DESC;FMTTYPE=text/html:
LOCATION:
UID:e.2500.3642
SEQUENCE:3
DTSTAMP:20260423T114444Z
URL:https://business.bellville.com/events/details/sold-out-radney-foster-the-kenney-store-3642
END:VEVENT

END:VCALENDAR
