BEGIN:VCALENDAR
VERSION:2.0
PRODID:-//ChamberMaster//Event Calendar 2.0//EN
METHOD:PUBLISH
X-PUBLISHED-TTL:P3D
REFRESH-INTERVAL:P3D
CALSCALE:GREGORIAN
BEGIN:VEVENT
DTSTART:20170525T230000Z
DTEND:20170526T020000Z
X-MICROSOFT-CDO-ALLDAYEVENT:FALSE
SUMMARY:Smart Girls Summit
DESCRIPTION:Educating and Empowering Young Girls Ages 10yrs to 18yrs\n\nFood Fun and Door Prizes
X-ALT-DESC;FMTTYPE=text/html:Educating and Empowering Young Girls Ages 10yrs to 18yrs<br />\nFood Fun and Door Prizes
LOCATION:Concordia Hall 952 S. Tesch Bellville\, TX 77418
UID:e.2500.3414
SEQUENCE:3
DTSTAMP:20260423T205429Z
URL:https://business.bellville.com/events/details/smart-girls-summit-3414
END:VEVENT

END:VCALENDAR
