BEGIN:VCALENDAR
VERSION:2.0
PRODID:-//ChamberMaster//Event Calendar 2.0//EN
METHOD:PUBLISH
X-PUBLISHED-TTL:P3D
REFRESH-INTERVAL:P3D
CALSCALE:GREGORIAN
BEGIN:VEVENT
DTSTART:20171028T150000Z
DTEND:20171028T210000Z
X-MICROSOFT-CDO-ALLDAYEVENT:FALSE
SUMMARY:Small Town Halloween
DESCRIPTION:
X-ALT-DESC;FMTTYPE=text/html:
LOCATION:Trick or Treat with these Shops of Downtown Bellville Nothing Ordinary Alternatives Amy's Unique Boutique Michele Jewelry Treasure Crafts Buck Fergeson Originals Coco and Duckie Cottonwood Cottage Holland St. Gallery Southern Trends
UID:e.2500.3631
SEQUENCE:3
DTSTAMP:20260423T124519Z
URL:https://business.bellville.com/events/details/small-town-halloween-3631
END:VEVENT

END:VCALENDAR
